BEGIN:VCALENDAR
VERSION:2.0
PRODID:-//IRV | International Wheel Gymnastics Federation - ECPv6.15.13.1//NONSGML v1.0//EN
CALSCALE:GREGORIAN
METHOD:PUBLISH
X-WR-CALNAME:IRV | International Wheel Gymnastics Federation
X-ORIGINAL-URL:https://wheelgymnastics.sport
X-WR-CALDESC:Events for IRV | International Wheel Gymnastics Federation
REFRESH-INTERVAL;VALUE=DURATION:PT1H
X-Robots-Tag:noindex
X-PUBLISHED-TTL:PT1H
BEGIN:VTIMEZONE
TZID:Europe/Berlin
BEGIN:DAYLIGHT
TZOFFSETFROM:+0100
TZOFFSETTO:+0200
TZNAME:CEST
DTSTART:20250330T010000
END:DAYLIGHT
BEGIN:STANDARD
TZOFFSETFROM:+0200
TZOFFSETTO:+0100
TZNAME:CET
DTSTART:20251026T010000
END:STANDARD
BEGIN:DAYLIGHT
TZOFFSETFROM:+0100
TZOFFSETTO:+0200
TZNAME:CEST
DTSTART:20260329T010000
END:DAYLIGHT
BEGIN:STANDARD
TZOFFSETFROM:+0200
TZOFFSETTO:+0100
TZNAME:CET
DTSTART:20261025T010000
END:STANDARD
BEGIN:DAYLIGHT
TZOFFSETFROM:+0100
TZOFFSETTO:+0200
TZNAME:CEST
DTSTART:20270328T010000
END:DAYLIGHT
BEGIN:STANDARD
TZOFFSETFROM:+0200
TZOFFSETTO:+0100
TZNAME:CET
DTSTART:20271031T010000
END:STANDARD
END:VTIMEZONE
BEGIN:VEVENT
DTSTART;TZID=Europe/Berlin:20260428T180000
DTEND;TZID=Europe/Berlin:20260428T180000
DTSTAMP:20260424T142030
CREATED:20260406T112308Z
LAST-MODIFIED:20260406T191243Z
UID:11109-1777399200-1777399200@wheelgymnastics.sport
SUMMARY:Cyr Wheel Judging FAQ Session 5
DESCRIPTION:The IRV Cyr Wheel Team would like to invite anyone interested in judging Cyr Wheel competitions to a series of online FAQ sessions. \nIn these sessions\, we will analyse parts of the Cyr Wheel Code of Points (technical and artistic programme regulations + difficulty catalogue) and answer/discuss open questions. The aim is to give everyone a better understanding of the rules and practices of Cyr Wheel competitions. \nThis is the fifth of a total of 6 sessions to be held in April and you are welcome to join us for one or more of the sessions. Participation is free and open to all interested parties. A video call link will be provided after registration. Please come prepared with your questions. \nDates: \nTuesdays: 7 / 14 / 21 / 28 April 2026 \nThursdays: 23 and 30 April 2026 \nTime: \n18:00 (CET) \nRegistration: \nPlease register via email: mhanisch@wheelgymnastics.sport (Melanie)
URL:https://wheelgymnastics.sport/event/cyr-wheel-judging-faq-session-5/
CATEGORIES:Academy Events,IRV Events and Competitions,Judging Courses
ATTACH;FMTTYPE=image/png:https://wheelgymnastics.sport/files/uploads/2026/04/Cyr-Wheel-Judging-FAQ-Sessions.png
END:VEVENT
BEGIN:VEVENT
DTSTART;TZID=Europe/Berlin:20260430T180000
DTEND;TZID=Europe/Berlin:20260430T180000
DTSTAMP:20260424T142030
CREATED:20260406T112658Z
LAST-MODIFIED:20260406T191345Z
UID:11112-1777572000-1777572000@wheelgymnastics.sport
SUMMARY:Cyr Wheel Judging FAQ Session 6
DESCRIPTION:The IRV Cyr Wheel Team would like to invite anyone interested in judging Cyr Wheel competitions to a series of online FAQ sessions. \nIn these sessions\, we will analyse parts of the Cyr Wheel Code of Points (technical and artistic programme regulations + difficulty catalogue) and answer/discuss open questions. The aim is to give everyone a better understanding of the rules and practices of Cyr Wheel competitions. \nThis is the sixth and final session to be held in April and you are welcome to join us for one or more of the sessions. Participation is free and open to all interested parties. A video call link will be provided after registration. Please come prepared with your questions. \nDates: \nTuesdays: 7 / 14 / 21 / 28 April 2026 \nThursdays: 23 and 30 April 2026 \nTime: \n18:00 (CET) \nRegistration: \nPlease register via email: mhanisch@wheelgymnastics.sport (Melanie)
URL:https://wheelgymnastics.sport/event/cyr-wheel-judging-faq-session-6/
CATEGORIES:Academy Events,IRV Events and Competitions,Judging Courses
ATTACH;FMTTYPE=image/png:https://wheelgymnastics.sport/files/uploads/2026/04/Cyr-Wheel-Judging-FAQ-Sessions.png
END:VEVENT
BEGIN:VEVENT
DTSTART;VALUE=DATE:20260629
DTEND;VALUE=DATE:20260706
DTSTAMP:20260424T142030
CREATED:20241130T064721Z
LAST-MODIFIED:20260417T100302Z
UID:9915-1782691200-1783295999@wheelgymnastics.sport
SUMMARY:IRV World Championships 2026
DESCRIPTION:Main Registration for DelegationsINFORMATION and REGISTRATIONSorry\, your browser doesn't support embedded videos.Ticket Sales OpenDirect Link to Local Organiser’s Ticket ShopThe ASC Göttingen Ticket Shop for the 2026 World Championships is open. \nA detailed timetable will not be available until much closer to the championships\, but the competition days are set as follows: \nWednesday 1 July \n\nGym Wheel Senior All Around Semi-Finals\n\nThursday 2 July \n\nGym Wheel Junior All Around Semi-Finals\nCyr Wheel All Around Finals\n\nFriday 3 July \n\nGym Wheel All Around Finals\nCyr World Battle\n\nSaturday 4 July \n\nGym Wheel Individual Discipline Finals\nCyr Wheel Artistic Programme Finals
URL:https://wheelgymnastics.sport/event/2026-wheel-gymnastics-world-championships/
LOCATION:Göttingen\, Germany
CATEGORIES:Individual World Championships,IRV Events and Competitions,World Championships
ATTACH;FMTTYPE=image/png:https://wheelgymnastics.sport/files/uploads/2024/11/WC2026.png
END:VEVENT
END:VCALENDAR