BEGIN:VCALENDAR
VERSION:2.0
PRODID:-//IRV | International Wheel Gymnastics Federation - ECPv6.15.13.1//NONSGML v1.0//EN
CALSCALE:GREGORIAN
METHOD:PUBLISH
X-ORIGINAL-URL:https://wheelgymnastics.sport
X-WR-CALDESC:Events for IRV | International Wheel Gymnastics Federation
REFRESH-INTERVAL;VALUE=DURATION:PT1H
X-Robots-Tag:noindex
X-PUBLISHED-TTL:PT1H
BEGIN:VTIMEZONE
TZID:Europe/Berlin
BEGIN:DAYLIGHT
TZOFFSETFROM:+0100
TZOFFSETTO:+0200
TZNAME:CEST
DTSTART:19940327T010000
END:DAYLIGHT
BEGIN:STANDARD
TZOFFSETFROM:+0200
TZOFFSETTO:+0100
TZNAME:CET
DTSTART:19940925T010000
END:STANDARD
BEGIN:DAYLIGHT
TZOFFSETFROM:+0100
TZOFFSETTO:+0200
TZNAME:CEST
DTSTART:19950326T010000
END:DAYLIGHT
BEGIN:STANDARD
TZOFFSETFROM:+0200
TZOFFSETTO:+0100
TZNAME:CET
DTSTART:19950924T010000
END:STANDARD
BEGIN:DAYLIGHT
TZOFFSETFROM:+0100
TZOFFSETTO:+0200
TZNAME:CEST
DTSTART:19960331T010000
END:DAYLIGHT
BEGIN:STANDARD
TZOFFSETFROM:+0200
TZOFFSETTO:+0100
TZNAME:CET
DTSTART:19961027T010000
END:STANDARD
BEGIN:DAYLIGHT
TZOFFSETFROM:+0100
TZOFFSETTO:+0200
TZNAME:CEST
DTSTART:19970330T010000
END:DAYLIGHT
BEGIN:STANDARD
TZOFFSETFROM:+0200
TZOFFSETTO:+0100
TZNAME:CET
DTSTART:19971026T010000
END:STANDARD
BEGIN:DAYLIGHT
TZOFFSETFROM:+0100
TZOFFSETTO:+0200
TZNAME:CEST
DTSTART:19980329T010000
END:DAYLIGHT
BEGIN:STANDARD
TZOFFSETFROM:+0200
TZOFFSETTO:+0100
TZNAME:CET
DTSTART:19981025T010000
END:STANDARD
END:VTIMEZONE
BEGIN:VEVENT
DTSTART;VALUE=DATE:19970513
DTEND;VALUE=DATE:19970516
DTSTAMP:20260425T143451
CREATED:20200528T081141Z
LAST-MODIFIED:20230521T105710Z
UID:3748-863481600-863740799@wheelgymnastics.sport
SUMMARY:1997 World Championships
DESCRIPTION:1997 IRV World Championships Results
URL:https://wheelgymnastics.sport/event/1997-world-championships/
LOCATION:Antwerpen\, Belgium
CATEGORIES:Individual World Championships,IRV Events and Competitions,World Championships
END:VEVENT
BEGIN:VEVENT
DTSTART;VALUE=DATE:19950101
DTEND;VALUE=DATE:19960101
DTSTAMP:20260425T143451
CREATED:20200528T081211Z
LAST-MODIFIED:20230521T105726Z
UID:3750-788918400-820454399@wheelgymnastics.sport
SUMMARY:1995 World Championships
DESCRIPTION:
URL:https://wheelgymnastics.sport/event/1995-world-championships/
LOCATION:Den Helder\, Netherlands
CATEGORIES:Individual World Championships,IRV Events and Competitions,World Championships
END:VEVENT
END:VCALENDAR